BEGIN:VCALENDAR
VERSION:2.0
PRODID:-//Brisbane Orchid Society - ECPv6.15.20//NONSGML v1.0//EN
CALSCALE:GREGORIAN
METHOD:PUBLISH
X-WR-CALNAME:Brisbane Orchid Society
X-ORIGINAL-URL:https://bos.org.au
X-WR-CALDESC:Events for Brisbane Orchid Society
REFRESH-INTERVAL;VALUE=DURATION:PT1H
X-Robots-Tag:noindex
X-PUBLISHED-TTL:PT1H
BEGIN:VTIMEZONE
TZID:Australia/Brisbane
BEGIN:STANDARD
TZOFFSETFROM:+1000
TZOFFSETTO:+1000
TZNAME:AEST
DTSTART:20250101T000000
END:STANDARD
END:VTIMEZONE
BEGIN:VEVENT
DTSTART;TZID=Australia/Brisbane:20260321T080000
DTEND;TZID=Australia/Brisbane:20260322T140000
DTSTAMP:20260422T042059
CREATED:20251205T095356Z
LAST-MODIFIED:20260217T230102Z
UID:1861-1774080000-1774188000@bos.org.au
SUMMARY:EDOS Show
DESCRIPTION:
URL:https://bos.org.au/event/edos-show/
LOCATION:Belmont Shooting Complex\, 1485 Old Cleveland Road\, Belmont\, Queensland\, 4153\, Australia
ATTACH;FMTTYPE=image/jpeg:https://bos.org.au/wp-content/uploads/2025/12/EDOSAutumn2026.jpg
END:VEVENT
END:VCALENDAR