BEGIN:VCALENDAR
VERSION:2.0
PRODID:-//Brisbane Orchid Society - ECPv6.15.20//NONSGML v1.0//EN
CALSCALE:GREGORIAN
METHOD:PUBLISH
X-WR-CALNAME:Brisbane Orchid Society
X-ORIGINAL-URL:https://bos.org.au
X-WR-CALDESC:Events for Brisbane Orchid Society
REFRESH-INTERVAL;VALUE=DURATION:PT1H
X-Robots-Tag:noindex
X-PUBLISHED-TTL:PT1H
BEGIN:VTIMEZONE
TZID:Australia/Brisbane
BEGIN:STANDARD
TZOFFSETFROM:+1000
TZOFFSETTO:+1000
TZNAME:AEST
DTSTART:20250101T000000
END:STANDARD
END:VTIMEZONE
BEGIN:VEVENT
DTSTART;TZID=Australia/Brisbane:20260307T083000
DTEND;TZID=Australia/Brisbane:20260308T140000
DTSTAMP:20260422T094715
CREATED:20260217T110737Z
LAST-MODIFIED:20260217T231947Z
UID:1891-1772872200-1772978400@bos.org.au
SUMMARY:QOS 2026 Autumn Orchid Show
DESCRIPTION:
URL:https://bos.org.au/event/qos-2026-autumn-orchid-show/
LOCATION:Belmont Shooting Complex\, 1485 Old Cleveland Road\, Belmont\, Queensland\, 4153\, Australia
ATTACH;FMTTYPE=image/jpeg:https://bos.org.au/wp-content/uploads/2026/02/QOSlogo.jpg
END:VEVENT
BEGIN:VEVENT
DTSTART;TZID=Australia/Brisbane:20260321T080000
DTEND;TZID=Australia/Brisbane:20260322T140000
DTSTAMP:20260422T094715
CREATED:20251205T095356Z
LAST-MODIFIED:20260217T230102Z
UID:1861-1774080000-1774188000@bos.org.au
SUMMARY:EDOS Show
DESCRIPTION:
URL:https://bos.org.au/event/edos-show/
LOCATION:Belmont Shooting Complex\, 1485 Old Cleveland Road\, Belmont\, Queensland\, 4153\, Australia
ATTACH;FMTTYPE=image/jpeg:https://bos.org.au/wp-content/uploads/2025/12/EDOSAutumn2026.jpg
END:VEVENT
BEGIN:VEVENT
DTSTART;TZID=Australia/Brisbane:20260328T083000
DTEND;TZID=Australia/Brisbane:20260329T133000
DTSTAMP:20260422T094715
CREATED:20260217T230857Z
LAST-MODIFIED:20260217T231548Z
UID:1895-1774686600-1774791000@bos.org.au
SUMMARY:WBOS Autumn Orchid Show
DESCRIPTION:
URL:https://bos.org.au/event/wbos-autumn-orchid-show/
LOCATION:Mount Coot-tha Botanic Gardens\, 152 Mount Coot-Tha Rd\, Mount Coot-Tha\, Queensland\, 4066\, Australia
ATTACH;FMTTYPE=image/jpeg:https://bos.org.au/wp-content/uploads/2026/02/WBOS2026.jpg
END:VEVENT
BEGIN:VEVENT
DTSTART;TZID=Australia/Brisbane:20260502T080000
DTEND;TZID=Australia/Brisbane:20260502T150000
DTSTAMP:20260422T094715
CREATED:20260217T101608Z
LAST-MODIFIED:20260217T101729Z
UID:1878-1777708800-1777734000@bos.org.au
SUMMARY:BOS 52nd Annual Autumn Show
DESCRIPTION:
URL:https://bos.org.au/event/bos-52nd-annual-autumn-show/
LOCATION:Belmont Shooting Complex\, 1485 Old Cleveland Road\, Belmont\, Queensland\, 4153\, Australia
ATTACH;FMTTYPE=image/jpeg:https://bos.org.au/wp-content/uploads/2026/02/BOSAutumn2026.jpg
END:VEVENT
END:VCALENDAR